Workbook

Sheet Sheet1
A1: 序号 | B1: 班级 | C1: 学号 | D1: XM | E1: 院系
A2: 1 | B2: G2601-03 | C2: G26010326 | D2: 陈锦康 | E2: 车辆工程系
A3: 2 | B3: G2601-06 | C3: G26010620 | D3: 向耀诚 | E3: 车辆工程系
A4: 3 | B4: G2601-06 | C4: G26010640 | D4: 施嘉慧 | E4: 车辆工程系
A5: 4 | B5: G2601-07 | C5: G26010741 | D5: 王超凡 | E5: 车辆工程系
A6: 5 | B6: G2601-07 | C6: G26010747 | D6: 袁奥运 | E6: 车辆工程系
A7: 6 | B7: G2601-08 | C7: G26010802 | D7: 管振华 | E7: 车辆工程系
A8: 7 | B8: G2601-08 | C8: G26010806 | D8: 黄义尧 | E8: 车辆工程系
A9: 8 | B9: G2601-08 | C9: G26010807 | D9: 赵烨 | E9: 车辆工程系
A10: 9 | B10: G2601-08 | C10: G26010843 | D10: 施浩然 | E10: 车辆工程系
A11: 10 | B11: G2601-08 | C11: G26010844 | D11: 李阳 | E11: 车辆工程系
A12: 11 | B12: G2601-08 | C12: G26010845 | D12: 吴展鹏 | E12: 车辆工程系
A13: 12 | B13: G2601-08 | C13: G26010846 | D13: 刘炳旭 | E13: 车辆工程系
... A68: 67 | B68: G2601-45 | C68: G26014541 | D68: 丁傲杰 | E68: 智能制造系

Sheet Sheet2
A1: 班级 | B1: 学号 | C1: 姓名 | D1: 专业 | E1: 院系
A2: G2601-01 | B2: G26010101 | C2: 汪家奥 | D2: 汽车电子技术 | E2: 车辆工程系 | F2: =COUNTIF(Sheet1!C:C,B:B) -> 0
A3: G2601-01 | B3: G26010102 | C3: 王未杰 | D3: 汽车电子技术 | E3: 车辆工程系 | F3: =COUNTIF(Sheet1!C:C,B:B) -> 0
A4: G2601-01 | B4: G26010103 | C4: 左志钢 | D4: 汽车电子技术 | E4: 车辆工程系 | F4: =COUNTIF(Sheet1!C:C,B:B) -> 0
A5: G2601-01 | B5: G26010104 | C5: 左浩然 | D5: 汽车电子技术 | E5: 车辆工程系 | F5: =COUNTIF(Sheet1!C:C,B:B) -> 0
A6: G2601-01 | B6: G26010105 | C6: 张禹 | D6: 汽车电子技术 | E6: 车辆工程系 | F6: =COUNTIF(Sheet1!C:C,B:B) -> 0
A7: G2601-01 | B7: G26010106 | C7: 左温馨 | D7: 汽车电子技术 | E7: 车辆工程系 | F7: =COUNTIF(Sheet1!C:C,B:B) -> 0
A8: G2601-01 | B8: G26010107 | C8: 聂佳伟 | D8: 汽车电子技术 | E8: 车辆工程系 | F8: =COUNTIF(Sheet1!C:C,B:B) -> 0
A9: G2601-01 | B9: G26010108 | C9: 李正恩 | D9: 汽车电子技术 | E9: 车辆工程系 | F9: =COUNTIF(Sheet1!C:C,B:B) -> 0
A10: G2601-01 | B10: G26010109 | C10: 钟志远 | D10: 汽车电子技术 | E10: 车辆工程系 | F10: =COUNTIF(Sheet1!C:C,B:B) -> 0
A11: G2601-01 | B11: G26010110 | C11: 陈同庆 | D11: 汽车电子技术 | E11: 车辆工程系 | F11: =COUNTIF(Sheet1!C:C,B:B) -> 0
A12: G2601-01 | B12: G26010111 | C12: 葛正扬 | D12: 汽车电子技术 | E12: 车辆工程系 | F12: =COUNTIF(Sheet1!C:C,B:B) -> 0
A13: G2601-01 | B13: G26010112 | C13: 聂子耀 | D13: 汽车电子技术 | E13: 车辆工程系 | F13: =COUNTIF(Sheet1!C:C,B:B) -> 0
... A2340: G2601-48 | B2340: G26014850 | C2340: 王慎豪 | D2340: 智能控制技术 | E2340: 智能制造系 | F2340: =COUNTIF(Sheet1!C:C,B:B) -> 0

Sheet Sheet3
