Workbook
Name Print_Area_MI: #REF!
Name 전: #REF!
Name 전: #REF!
Name 전: #REF!
Name 주택사업본부: #REF!
Name 주택사업본부: #REF!
Name 주택사업본부: #REF!
Name 철구사업본부: #REF!
Name 철구사업본부: #REF!
Name 철구사업본부: #REF!

Sheet 公开01表-资产负债表
A1: 资产负债表
A2: 公开01表
A3: 单位：安徽汽车工业技师学院 | F3: 金额单位：万元
A4: 项 目 | B4: 46022 | C4: 45657 | D4: 项 目 | E4: 46022 | F4: 45657
A5: 流动资产： | D5: 流动负债：
A6: 货币资金 | B6: 10100.799 | C6: 10383.801 | D6: 短期借款
A7: 交易性金融资产 | D7: 交易性金融负债
A8: 衍生金融资产 | D8: 衍生金融负债
A9: 应收票据 | D9: 应付票据
A10: 应收账款 | B10: 258.37165 | C10: 258.37165 | D10: 应付账款
A11: 应收款项融资 | D11: 预收款项 | E11: 17.350428 | F11: 24.525658
A12: 预付款项 | D12: 合同负债
A13: 其他应收款 | B13: 235.20771 | C13: 0.079596 | D13: 应付职工薪酬 | E13: 110.50033 | F13: 95.665642
A14: 存货 | D14: 应交税费 | E14: 0.52002 | F14: 9.313907
A15: 合同资产 | D15: 其他应付款 | E15: 451.2901 | F15: 375.2102
A16: 持有待售资产 | D16: 持有待售负债
A17: 一年内到期的非流动资产 | D17: 一年内到期的非流动负债
A18: 其他流动资产 | D18: 其他流动负债
A19: 流动资产合计 | B19: =SUM(B6:B18) -> 10594.378 | C19: =SUM(C6:C18) -> 10642.253 | D19: 流动负债合计 | E19: =SUM(E6:E18) -> 579.66088 | F19: =SUM(F6:F18) -> 504.7154
A20: 非流动资产： | D20: 非流动负债：
A21: 债权投资 | D21: 长期借款 | I21: 10000
A22: 其他债权投资 | D22: 应付债券
A23: 长期应收款 | D23: 其中：优先股
A24: 长期股权投资 | D24: 永续债
A25: 其他权益工具投资 | D25: 租赁负债
A26: 其他非流动金融资产 | D26: 长期应付款
A27: 投资性房地产 | D27: 长期应付职工薪酬
A28: 固定资产 | B28: 3527.5463 | C28: 3903.4736 | D28: 预计负债
A29: 在建工程 | D29: 递延收益 | E29: 623.6628 | F29: 1123.3961
A30: 生产性生物资产 | D30: 递延所得税负债
A31: 油气资产 | D31: 其他非流动负债
A32: 使用权资产 | D32: 非流动负债合计 | E32: =E21+E22+SUM(E25:E31) -> 623.6628 | F32: =F21+F22+SUM(F25:F31) -> 1123.3961
A33: 无形资产 | C33: 0.233372 | D33: 负债合计 | E33: =E19+E32 -> 1203.3237 | F33: =F19+F32 -> 1628.1115
A34: 开发支出 | D34: 所有者权益：
A35: 商誉 | D35: 实收资本 | E35: 5278.6395 | F35: 5278.6395
A36: 长期待摊费用 | D36: 其他权益工具
A37: 递延所得税资产 | D37: 其中：优先股
A38: 其他非流动资产 | D38: 永续债
A39: 非流动资产合计 | B39: =SUM(B21:B38) -> 3527.5463 | C39: =SUM(C21:C38) -> 3903.707 | D39: 资本公积
D40: 减：库存股
...

Sheet 公开02表-利润表
A1: 利润表
A2: 公开02表
A3: ='公开01表-资产负债表'!A3 -> 单位：安徽汽车工业技师学院 | C3: 金额单位：万元
A4: 项 目 | B4: 2025年度 | C4: 2024年度
A5: 一、营业收入 | B5: 175.37169 | C5: 405.69477 | D5: =(B5-C5)/C5 -> -0.56772503
A6: 减：营业成本 | B6: 918.49526 | C6: 967.01813 | D6: =(B6-C6)/C6 -> -0.050177826
A7: 税金及附加 | B7: 0.568241 | C7: 1.02701 | D7: =(B7-C7)/C7 -> -0.44670354
A8: 销售费用 | D8: =(B8-C8)/C8 -> #DIV/0!
A9: 管理费用 | B9: 115.06271 | C9: 178.26058 | D9: =(B9-C9)/C9 -> -0.35452522
A10: 研发费用 | D10: =(B10-C10)/C10 -> #DIV/0!
A11: 财务费用 | B11: -65.570706 | C11: -95.838443 | D11: =(B11-C11)/C11 -> -0.31582042
A12: 其中：利息费用 | D12: =(B12-C12)/C12 -> #DIV/0!
A13: 利息收入 | B13: 65.635246 | C13: 96.131619 | D13: =(B13-C13)/C13 -> -0.31723561
A14: 加：其他收益 | B14: 784.96896 | C14: 656.35927 | D14: =(B14-C14)/C14 -> 0.19594404
A15: 投资收益（损失以“-”号填列） | D15: =(B15-C15)/C15 -> #DIV/0!
A16: 其中：对联营企业和合营企业的投资收益 | D16: =(B16-C16)/C16 -> #DIV/0!
A17: 以摊余成本计量的金融资产终止确认收益 | D17: =(B17-C17)/C17 -> #DIV/0!
A18: 净敞口套期收益（损失以“-”号填列） | D18: =(B18-C18)/C18 -> #DIV/0!
A19: 公允价值变动收益（损失以“-”号填列） | D19: =(B19-C19)/C19 -> #DIV/0!
A20: 信用减值损失（损失以“-”号填列） | B20: 15.003332 | C20: 1.292761 | D20: =(B20-C20)/C20 -> 10.60565
A21: 资产减值损失（损失以“-”号填列） | D21: =(B21-C21)/C21 -> #DIV/0!
A22: 资产处置收益（损失以“-”号填列） | D22: =(B22-C22)/C22 -> #DIV/0! | H22: 10000
A23: 二、营业利润（亏损以“-”号填列） | B23: 6.788481 | C23: 12.87953 | D23: =(B23-C23)/C23 -> -0.47292479
A24: 加：营业外收入 | B24: 0.63424 | C24: 1.460832 | D24: =(B24-C24)/C24 -> -0.56583645
A25: 减：营业外支出 | B25: 1.260476 | C25: 1.2587 | D25: =(B25-C25)/C25 -> 0.0014109796
A26: 三、利润总额（亏损总额以“-”号填列） | B26: 6.162245 | C26: 13.081662 | D26: =(B26-C26)/C26 -> -0.52894021
A27: 减：所得税费用 | B27: 5.409587 | C27: 11.226074 | D27: =(B27-C27)/C27 -> -0.51812299
A28: 四、净利润（净亏损以“-”号填列） | B28: 0.752658 | C28: 1.855588 | D28: =(B28-C28)/C28 -> -0.59438302
A29: （一）持续经营净利润（净亏损以“-”号填列） | B29: 0.752658 | C29: 1.855588 | D29: =(B29-C29)/C29 -> -0.59438302
A30: （二）终止经营净利润（净亏损以“-”号填列） | D30: =(B30-C30)/C30 -> #DIV/0!
A31: 五、其他综合收益的税后净额 | D31: =(B31-C31)/C31 -> #DIV/0!
A32: （一）不能重分类进损益的其他综合收益
A33: 1.重新计量设定受益计划变动额
A34: 2.权益法下不能转损益的其他综合收益
A35: 3.其他权益工具投资公允价值变动
A36: 4.企业自身信用风险公允价值变动
A37: （二）将重分类进损益的其他综合收益
A38: 1.权益法下可转损益的其他综合收益
A39: 2.其他债权投资公允价值变动
A40: 3.金融资产重分类计入其他综合收益的金额
...

Sheet 公开03表-现金流量表
A1: 现金流量表
A2: 公开03表
A3: ='公开01表-资产负债表'!A3 -> 单位：安徽汽车工业技师学院 | C3: 金额单位：万元
A4: 项 目 | B4: 2025年度 | C4: 2024年度
A5: 一、经营活动产生的现金流量
A6: 销售商品、提供劳务收到的现金 | B6: 177.12126 | C6: 407.93102
A7: 收到的税费返还
A8: 收到其他与经营活动有关的现金 | B8: 153.82097 | C8: 1884.2312
A9: 经营活动现金流入小计 | B9: 330.94223 | C9: 2292.1622
A10: 购买商品、接受劳务支付的现金
A11: 支付给职工以及为职工支付的现金 | B11: 395.98324 | C11: 454.65803
A12: 支付的各项税费 | B12: 21.328372 | C12: 39.268137
A13: 支付其他与经营活动有关的现金 | B13: 63.823505 | C13: 286.93317
A14: 经营活动现金流出小计 | B14: 481.13512 | C14: 780.85934
A15: 经营活动产生的现金流量净额 | B15: -150.19289 | C15: 1511.3029
A16: 二、投资活动产生的现金流量
A17: 收回投资收到的现金
A18: 取得投资收益收到的现金
A19: 处置固定资产、无形资产和其他长期资产收回的现金净额 | B19: 4.860903 | C19: 1.65
A20: 处置子公司及其他营业单位收到的现金净额
A21: 收到其他与投资活动有关的现金 | C21: 3057.5958
A22: 投资活动现金流入小计 | B22: 4.860903 | C22: 3059.2458
A23: 购建固定资产、无形资产和其他长期资产支付的现金 | B23: 137.6706 | C23: 30.22235
A24: 投资支付的现金
A25: 取得子公司及其他营业单位支付的现金净额
A26: 支付其他与投资活动有关的现金 | C26: 3000
A27: 投资活动现金流出小计 | B27: 137.6706 | C27: 3030.2224
A28: 投资活动产生的现金流量净额 | B28: -132.8097 | C28: 29.023484
A29: 三、筹资活动产生的现金流量
A30: 吸收投资收到的现金
A31: 取得借款收到的现金
A32: 收到其他与筹资活动有关的现金
A33: 筹资活动现金流入小计
A34: 偿还债务支付的现金
A35: 分配股利、利润或偿付利息支付的现金
A36: 支付其他与筹资活动有关的现金
A37: 筹资活动现金流出小计
A38: 筹资活动产生的现金流量净额 | I38: 10100.8
A39: 四、汇率变动对现金及现金等价物的影响
A40: 五、现金及现金等价物净增加额 | B40: -283.00259 | C40: 1540.3264
...

Sheet 公开04表-所有者权益变动表
A1: 所有者权益变动表
A2: 公开04表
A3: ='公开03表-现金流量表'!A3 -> 单位：安徽汽车工业技师学院 | L3: 金额单位：万元
A4: 项目 | B4: 2025年度
B5: 实收资本 | C5: 其他权益工具 | F5: 资本公积 | G5: 减：库存股 | H5: 其他综合收益 | I5: 专项储备 | J5: 盈余公积 | K5: 未分配利润 | L5: 所有者权益合计
A6: 项目 | C6: 优先股 | D6: 永续债 | E6: 其他
A7: 一、上年年末余额 | B7: =B69 -> 5278.6395 | C7: =C69 -> 0 | D7: =D69 -> 0 | E7: =E69 -> 0 | F7: =F69 -> 0 | G7: =G69 -> 0 | H7: =H69 -> 0 | I7: =I69 -> 0 | ... K7: =K69 -> 6882.2715 | L7: =SUM(B7:F7)-G7+SUM(H7:K7) -> 12917.848
A8: 加： 会计政策变更 | L8: =SUM(B8:F8)-G8+SUM(H8:K8) -> 0
A9: 前期差错更正 | L9: =SUM(B9:F9)-G9+SUM(H9:K9) -> 0
A10: 其他 | L10: =SUM(B10:F10)-G10+SUM(H10:K10) -> 0
A11: 二、本年年初余额 | B11: =SUM(B7:B10) -> 5278.6395 | C11: =SUM(C7:C10) -> 0 | D11: =SUM(D7:D10) -> 0 | E11: =SUM(E7:E10) -> 0 | F11: =SUM(F7:F10) -> 0 | G11: =SUM(G7:G10) -> 0 | H11: =SUM(H7:H10) -> 0 | I11: =SUM(I7:I10) -> 0 | ... K11: =SUM(K7:K10) -> 6882.2715 | L11: =SUM(B11:F11)-G11+SUM(H11:K11) -> 12917.848
A12: 三、本年增减变动金额(减少以“-”号填列) | B12: =B13+B14+B19+B23+B30+B33 -> 0 | C12: =C13+C14+C19+C23+C30+C33 -> 0 | D12: =D13+D14+D19+D23+D30+D33 -> 0 | E12: =E13+E14+E19+E23+E30+E33 -> 0 | F12: =F13+F14+F19+F23+F30+F33 -> 0 | G12: =G13+G14+G19+G23+G30+G33 -> 0 | H12: =H13+H14+H19+H23+H30+H33 -> 0 | I12: =I13+I14+I19+I23+I30+I33 -> 0 | ... K12: =K13+K14+K19+K23+K30+K33 -> 0.677392 | L12: =SUM(B12:F12)-G12+SUM(H12:K12) -> 0.752658
A13: （一）综合收益总额 | H13: ='公开02表-利润表'!B31 -> 0 | K13: ='公开02表-利润表'!B28 -> 0.752658 | L13: =SUM(B13:F13)-G13+SUM(H13:K13) -> 0.752658
A14: （二）所有者投入和减少资本 | B14: =SUM(B15:B18) -> 0 | C14: =SUM(C15:C18) -> 0 | D14: =SUM(D15:D18) -> 0 | E14: =SUM(E15:E18) -> 0 | F14: =SUM(F15:F18) -> 0 | G14: =SUM(G15:G18) -> 0 | H14: =SUM(H15:H18) -> 0 | I14: =SUM(I15:I18) -> 0 | ... K14: =SUM(K15:K18) -> 0 | L14: =SUM(B14:F14)-G14+SUM(H14:K14) -> 0
A15: 1. 所有者投入的普通股 | L15: =SUM(B15:F15)-G15+SUM(H15:K15) -> 0
A16: 2．其他权益工具持有者投入资本 | L16: =SUM(B16:F16)-G16+SUM(H16:K16) -> 0
A17: 3．股份支付计入所有者权益的金额 | F17: ='公开01表-资产负债表'!E39-'公开01表-资产负债表'!F39 -> 0 | L17: =SUM(B17:F17)-G17+SUM(H17:K17) -> 0
A18: 4．其他 | L18: =SUM(B18:F18)-G18+SUM(H18:K18) -> 0
A19: （三）利润分配 | B19: =SUM(B20:B22) -> 0 | C19: =SUM(C20:C22) -> 0 | D19: =SUM(D20:D22) -> 0 | E19: =SUM(E20:E22) -> 0 | F19: =SUM(F20:F22) -> 0 | G19: =SUM(G20:G22) -> 0 | H19: =SUM(H20:H22) -> 0 | I19: =SUM(I20:I22) -> 0 | ... K19: =SUM(K20:K22) -> -0.075266 | L19: =SUM(B19:F19)-G19+SUM(H19:K19) -> 0
A20: 1．提取盈余公积 | J20: ='公开01表-资产负债表'!E43-'公开01表-资产负债表'!F43 -> 0.075266 | K20: =0-J20 -> -0.075266 | L20: =SUM(B20:F20)-G20+SUM(H20:K20) -> 0
A21: 2．对所有者（或股东）的分配 | L21: =SUM(B21:F21)-G21+SUM(H21:K21) -> 0
A22: 3．其他 | L22: =SUM(B22:F22)-G22+SUM(H22:K22) -> 0
A23: （四）所有者权益内部结转 | B23: =SUM(B24:B29) -> 0 | C23: =SUM(C24:C29) -> 0 | D23: =SUM(D24:D29) -> 0 | E23: =SUM(E24:E29) -> 0 | F23: =SUM(F24:F29) -> 0 | G23: =SUM(G24:G29) -> 0 | H23: =SUM(H24:H29) -> 0 | I23: =SUM(I24:I29) -> 0 | ... K23: =SUM(K24:K29) -> 0 | L23: =SUM(B23:F23)-G23+SUM(H23:K23) -> 0
A24: 1．资本公积转增资本（或股本） | L24: =SUM(B24:F24)-G24+SUM(H24:K24) -> 0
A25: 2．盈余公积转增资本（或股本） | L25: =SUM(B25:F25)-G25+SUM(H25:K25) -> 0
A26: 3．盈余公积弥补亏损 | L26: =SUM(B26:F26)-G26+SUM(H26:K26) -> 0
A27: 4．设定受益计划变动额结转留存收益 | L27: =SUM(B27:F27)-G27+SUM(H27:K27) -> 0
A28: 5. 其他综合收益结转留存收益 | L28: =SUM(B28:F28)-G28+SUM(H28:K28) -> 0
A29: 6. 其他 | L29: =SUM(B29:F29)-G29+SUM(H29:K29) -> 0
A30: （五）专项储备 | B30: =B31-B32 -> 0 | C30: =C31-C32 -> 0 | D30: =D31-D32 -> 0 | E30: =E31-E32 -> 0 | F30: =F31-F32 -> 0 | G30: =G31-G32 -> 0 | H30: =H31-H32 -> 0 | I30: =I31-I32 -> 0 | ... K30: =K31-K32 -> 0 | L30: =SUM(B30:F30)-G30+SUM(H30:K30) -> 0
A31: 1．本年提取 | L31: =SUM(B31:F31)-G31+SUM(H31:K31) -> 0
A32: 2．本年使用 | L32: =SUM(B32:F32)-G32+SUM(H32:K32) -> 0
A33: （六）其他 | L33: =SUM(B33:F33)-G33+SUM(H33:K33) -> 0
A34: 四、本年年末余额 | B34: =B11+B12 -> 5278.6395 | C34: =C11+C12 -> 0 | D34: =D11+D12 -> 0 | E34: =E11+E12 -> 0 | F34: =F11+F12 -> 0 | G34: =G11+G12 -> 0 | H34: =H11+H12 -> 0 | I34: =I11+I12 -> 0 | ... K34: =K11+K12 -> 6882.9489 | L34: =SUM(B34:F34)-G34+SUM(H34:K34) -> 12918.601
A36: 所有者权益变动表（续）
A37: 公开04表
A38: ='公开01表-资产负债表'!A3 -> 单位：安徽汽车工业技师学院 | L38: 金额单位：万元
A39: 项目 | B39: 2024年度
B40: 实收资本 | C40: 其他权益工具 | F40: 资本公积 | G40: 减：库存股 | H40: 其他综合收益 | I40: 专项储备 | J40: 盈余公积 | K40: 未分配利润 | L40: 所有者权益合计
A41: 项目 | C41: 优先股 | D41: 永续债 | E41: 其他
...

Sheet 公开05表-三公经费
A1: 安徽汽车工业技师学院2025年度“三公”经费支出决算表
A2: 公开05表
A3: 单位：安徽汽车工业技师学院 | C3: 金额单位：万元
A4: 项目 | B4: 预算数 | C4: 决算数
A5: 因公出国（境）费 | B5: 48 | C5: 0
A6: 公务接待费 | B6: 12 | C6: 1.7
A7: 公务用车购置及运行费 | B7: 6.95 | C7: =C8+C9 -> 6.941843
A8: 其中：公务用车运行维护费 | B8: 6.95 | C8: =[1]两院合并明细!$O$22 -> 6.941843
A9: 公务用车购置费 | B9: 0 | C9: 0
A10: 总计 | B10: =B5+B6+B7 -> 66.95 | C10: =C5+C6+C7 -> 8.641843
A11: 说明：以上为合并数据（含安徽汽车职业技术学院）。
